BEGIN:VCALENDAR
VERSION:2.0
PRODID:-//Experiencias Positivas - ECPv6.9.0//NONSGML v1.0//EN
CALSCALE:GREGORIAN
METHOD:PUBLISH
X-ORIGINAL-URL:https://www.experienciaspositivas.es
X-WR-CALDESC:Eventos para Experiencias Positivas
REFRESH-INTERVAL;VALUE=DURATION:PT1H
X-Robots-Tag:noindex
X-PUBLISHED-TTL:PT1H
BEGIN:VTIMEZONE
TZID:Europe/Madrid
BEGIN:DAYLIGHT
TZOFFSETFROM:+0100
TZOFFSETTO:+0200
TZNAME:CEST
DTSTART:20230326T010000
END:DAYLIGHT
BEGIN:STANDARD
TZOFFSETFROM:+0200
TZOFFSETTO:+0100
TZNAME:CET
DTSTART:20231029T010000
END:STANDARD
END:VTIMEZONE
BEGIN:VEVENT
DTSTART;TZID=Europe/Madrid:20230916T200000
DTEND;TZID=Europe/Madrid:20230916T223000
DTSTAMP:20260422T093352
CREATED:20230908T100508Z
LAST-MODIFIED:20230908T114620Z
UID:1387-1694894400-1694903400@www.experienciaspositivas.es
SUMMARY:Taller de Astronomía CONSTELACIÓN DE HÉRCULES
DESCRIPTION:Plazas limitadas. El entorno natural espectacular facilitará el aprendizaje in situ de conceptos científicos básicos de astronomía\, todo acompañado de los antiguos mitos que han moldeado nuestra cultura. Aprenderemos a reconocer la estrella polar y nos familiarizamos con la magnífica constelación de Hércules. Realizaremos una manualidad que podremos llevar a casa\, con materiales naturales. Comentaremos curiosidades sobre la investigación espacial y la evolución de los programas de exploración . Utilizaremos puntero láser astronómico\, prismáticos y telescopio. Todo esto y más nos ofrece la  Reserva de la Biosfera de Doñana ! 
URL:https://www.experienciaspositivas.es/event/taller-de-astronomia-constelacion-de-hercules/
LOCATION:Sevilla
CATEGORIES:Astronomía,naturaleza,Taller,turismo cientifico
ATTACH;FMTTYPE=image/jpeg:https://www.experienciaspositivas.es/wp-content/uploads/2019/05/nino-con-tableta-de-madera.jpg
END:VEVENT
END:VCALENDAR