BEGIN:VCALENDAR
VERSION:2.0
PRODID:-//Experiencias Positivas - ECPv6.9.0//NONSGML v1.0//EN
CALSCALE:GREGORIAN
METHOD:PUBLISH
X-WR-CALNAME:Experiencias Positivas
X-ORIGINAL-URL:https://www.experienciaspositivas.es
X-WR-CALDESC:Eventos para Experiencias Positivas
REFRESH-INTERVAL;VALUE=DURATION:PT1H
X-Robots-Tag:noindex
X-PUBLISHED-TTL:PT1H
BEGIN:VTIMEZONE
TZID:Europe/Madrid
BEGIN:DAYLIGHT
TZOFFSETFROM:+0100
TZOFFSETTO:+0200
TZNAME:CEST
DTSTART:20230326T010000
END:DAYLIGHT
BEGIN:STANDARD
TZOFFSETFROM:+0200
TZOFFSETTO:+0100
TZNAME:CET
DTSTART:20231029T010000
END:STANDARD
END:VTIMEZONE
BEGIN:VEVENT
DTSTART;TZID=Europe/Madrid:20231118T183000
DTEND;TZID=Europe/Madrid:20231118T210000
DTSTAMP:20260422T061543
CREATED:20231109T090137Z
LAST-MODIFIED:20231109T095718Z
UID:1396-1700332200-1700341200@www.experienciaspositivas.es
SUMMARY:TALLER DE ASTRONOMIA el cielo de Otoño está repleto de mitos!!
DESCRIPTION:¿Te apetece encontrar a una antigua princesa y un caballo alado en los otoñales cielos de Doñana? Andrómeda y Pegaso serán nuestros guías para pasear la mirada entre los astros del cielo\, hasta llegar a profundidades abrumadoras. Si eres neófito…¡ no te preocupes !  siempre repasamos los conceptos básicos de observación astronómica. Quien lo desee podrá realizar una manualidad para reforzar el aprendizaje a través del arte: Este mes será el turno de la constelación de Pegaso. \nMonitor especializado Divulgador Científico FAAE \nMateriales didácticos de apoyo de madera y papel \nPuntero láser\, binoculares y telescopio
URL:https://www.experienciaspositivas.es/event/taller-de-astronomia-el-cielo-de-otono-esta-repleto-de-mitos/
LOCATION:Reserva natural de la Dehesa de Abajo\, carretera Venta al Cruce\, La Puebla del Río\, Sevilla\, España
CATEGORIES:Astronomía,doñana,naturaleza,Taller,turismo cientifico
ATTACH;FMTTYPE=image/jpeg:https://www.experienciaspositivas.es/wp-content/uploads/2021/04/20200608_220524-scaled.jpg
ORGANIZER;CN="Experiencias Positivas":MAILTO:info@experienciaspositivas.es
END:VEVENT
BEGIN:VEVENT
DTSTART;TZID=Europe/Madrid:20231125T181500
DTEND;TZID=Europe/Madrid:20231125T204500
DTSTAMP:20260422T061543
CREATED:20231109T105023Z
LAST-MODIFIED:20231109T105206Z
UID:1398-1700936100-1700945100@www.experienciaspositivas.es
SUMMARY:ESPECIAL LUNA
DESCRIPTION:Vuelve nuestro Taller de Astronomía ESPECIAL LUNA \nNos dedicamos a estudiar nuestro satélite y a hablar de su origen\, morfología y de los programas de exploración espacial que se están desarrollando. Nos pondremos manos a la obra\, para llevarte a casa tu mapa artístico de la luna. Podrás consumir tu picnic en los merenderos de la reserva natural\, o cenar en los pueblos de alrededor. Aparcamiento disponible. \n  \nGrupos reducidos para una experiencia optima\, en la Reserva de la Biosfera de Doñana. \nEdad recomendada a partir de 6/8 años. \nContaremos con puntero laser\, binoculares y telescopio. \nMonitor especializado con sello Divulgador Astronómico FAAE \nActividad incluida en el listado de Turismo Científico de la Fundación Descubre \n \n  \n  \n 
URL:https://www.experienciaspositivas.es/event/especial-luna-3/
LOCATION:Reserva natural de la Dehesa de Abajo\, carretera Venta al Cruce\, La Puebla del Río\, Sevilla\, España
CATEGORIES:Astronomía,naturaleza,Taller,turismo cientifico
ATTACH;FMTTYPE=image/jpeg:https://www.experienciaspositivas.es/wp-content/uploads/2021/11/luna-cresciente.jpg
ORGANIZER;CN="Experiencias Positivas":MAILTO:info@experienciaspositivas.es
END:VEVENT
END:VCALENDAR