BEGIN:VCALENDAR
VERSION:2.0
PRODID:-//Experiencias Positivas - ECPv6.9.0//NONSGML v1.0//EN
CALSCALE:GREGORIAN
METHOD:PUBLISH
X-ORIGINAL-URL:https://www.experienciaspositivas.es
X-WR-CALDESC:Eventos para Experiencias Positivas
REFRESH-INTERVAL;VALUE=DURATION:PT1H
X-Robots-Tag:noindex
X-PUBLISHED-TTL:PT1H
BEGIN:VTIMEZONE
TZID:Europe/Madrid
BEGIN:DAYLIGHT
TZOFFSETFROM:+0100
TZOFFSETTO:+0200
TZNAME:CEST
DTSTART:20260329T010000
END:DAYLIGHT
BEGIN:STANDARD
TZOFFSETFROM:+0200
TZOFFSETTO:+0100
TZNAME:CET
DTSTART:20261025T010000
END:STANDARD
END:VTIMEZONE
BEGIN:VEVENT
DTSTART;TZID=Europe/Madrid:20260124T173000
DTEND;TZID=Europe/Madrid:20260124T193000
DTSTAMP:20260420T135943
CREATED:20260110T100934Z
LAST-MODIFIED:20260110T155225Z
UID:1649-1769275800-1769283000@www.experienciaspositivas.es
SUMMARY:Taller de Astronomía
DESCRIPTION:En la Reserva de la Biosfera de Doñana te esperamos para disfrutar de los cielos de inviernos\, que nos asombrarán con su belleza. Actividad perfecta para acercarse a la astronomía. Todos podemos disfrutar de la belleza del cielo nocturno y más aún cuando aprendemos a entender lo que estamos viendo. Protagonistas del cielo hoy serán La Luna\, Saturno\, Júpiter y la constelación de Orión. Vive con nosotros 2 horas de puro disfrute del entorno y del aire libre. Tendremos a disposición puntero laser astronómico\, prismáticos y telescopio. Grupo reducido\,  Grupo reducido\, reserva previa necesaria escribiendo a experiencias.positivas.sevilla@gmail.com. \nTaller de astronomía de aprendizaje activo\, apto para adultos y niños\, conducido por divulgadora FAAE. \nLa Dehesa de Abajo se encuentra en La Puebla del Río a pocos kilometros de Sevilla. \n  \n 
URL:https://www.experienciaspositivas.es/event/taller-de-astronomia-30/
LOCATION:Reserva natural de la Dehesa de Abajo\, carretera Venta al Cruce\, La Puebla del Río\, Sevilla\, España
CATEGORIES:Astronomía,doñana,naturaleza,Taller,turismo cientifico
ATTACH;FMTTYPE=image/jpeg:https://www.experienciaspositivas.es/wp-content/uploads/2021/11/luna-cresciente.jpg
END:VEVENT
END:VCALENDAR