BEGIN:VCALENDAR
VERSION:2.0
PRODID:-//Experiencias Positivas - ECPv6.9.0//NONSGML v1.0//EN
CALSCALE:GREGORIAN
METHOD:PUBLISH
X-ORIGINAL-URL:https://www.experienciaspositivas.es
X-WR-CALDESC:Eventos para Experiencias Positivas
REFRESH-INTERVAL;VALUE=DURATION:PT1H
X-Robots-Tag:noindex
X-PUBLISHED-TTL:PT1H
BEGIN:VTIMEZONE
TZID:Europe/Madrid
BEGIN:DAYLIGHT
TZOFFSETFROM:+0100
TZOFFSETTO:+0200
TZNAME:CEST
DTSTART:20230326T010000
END:DAYLIGHT
BEGIN:STANDARD
TZOFFSETFROM:+0200
TZOFFSETTO:+0100
TZNAME:CET
DTSTART:20231029T010000
END:STANDARD
END:VTIMEZONE
BEGIN:VEVENT
DTSTART;TZID=Europe/Madrid:20230805T210000
DTEND;TZID=Europe/Madrid:20230805T230000
DTSTAMP:20260422T123314
CREATED:20230720T173441Z
LAST-MODIFIED:20230720T175308Z
UID:1374-1691269200-1691276400@www.experienciaspositivas.es
SUMMARY:Taller de astronomía - constelaciones estivales
DESCRIPTION:Taller donde nos dedicamos a comprender los conceptos elementales de astronomía para disfrutar de una observación acompañada de un real aprendizaje. \nNos dedicamos a las constelaciones estivales. Disponemos de puntero láser astronómico\, prismáticos y telescopio. \nEl lugar ofrece un cielo de buena calidad\, muy abierto en contacto con la naturaleza. Reserva de la Biosfera de Doñana.
URL:https://www.experienciaspositivas.es/event/taller-de-astronomia-constelaciones-estivales/
LOCATION:Reserva natural de la Dehesa de Abajo\, carretera Venta al Cruce\, La Puebla del Río\, Sevilla\, España
CATEGORIES:Astronomía,Taller,turismo cientifico
ATTACH;FMTTYPE=image/jpeg:https://www.experienciaspositivas.es/wp-content/uploads/2019/08/materiales-en-la-mesa.jpg
ORGANIZER;CN="Experiencias Positivas":MAILTO:info@experienciaspositivas.es
END:VEVENT
END:VCALENDAR