BEGIN:VCALENDAR
VERSION:2.0
PRODID:-//Experiencias Positivas - ECPv6.9.0//NONSGML v1.0//EN
CALSCALE:GREGORIAN
METHOD:PUBLISH
X-WR-CALNAME:Experiencias Positivas
X-ORIGINAL-URL:https://www.experienciaspositivas.es
X-WR-CALDESC:Eventos para Experiencias Positivas
REFRESH-INTERVAL;VALUE=DURATION:PT1H
X-Robots-Tag:noindex
X-PUBLISHED-TTL:PT1H
BEGIN:VTIMEZONE
TZID:Europe/Madrid
BEGIN:DAYLIGHT
TZOFFSETFROM:+0100
TZOFFSETTO:+0200
TZNAME:CEST
DTSTART:20250330T010000
END:DAYLIGHT
BEGIN:STANDARD
TZOFFSETFROM:+0200
TZOFFSETTO:+0100
TZNAME:CET
DTSTART:20251026T010000
END:STANDARD
END:VTIMEZONE
BEGIN:VEVENT
DTSTART;TZID=Europe/Madrid:20250322T184500
DTEND;TZID=Europe/Madrid:20250322T211500
DTSTAMP:20260421T080133
CREATED:20250226T165738Z
LAST-MODIFIED:20250226T174627Z
UID:1523-1742669100-1742678100@www.experienciaspositivas.es
SUMMARY:Taller de Astronomía: Orión\, planetas y equinoccio de primavera
DESCRIPTION:Este mes nos dedicamos a la magnífica constelación de Orión. Además\, realizaremos una dinámica para comprender qué es el equinoccio de primavera. Nuestra intención para hoy\, es observar los planetas visibles en el cielo: Marte\, Júpiter\, Venus y… lo intentaremos con Mercurio también. \nVive con nosotros 2 horas de puro disfrute del entorno y del aire libre…el cielo nocturno nos revelará sus secretos. Te esperamos en La Dehesa de Abajo\,  Reserva de la Biosfera de Doñana\,  para disfrutar juntos con nuestro taller de astronomía de aprendizaje activo. Verás que es apto para adultos y niños también\, a partir de 6/8 años. Todos podemos disfrutar de la belleza del cielo nocturno y más aún cuando aprendemos a entender lo que estamos viendo! \nGrupo reducido\, max. 25 personas \nActividad perfecta para acercarse a la astronomía \nContaremos con puntero laser\, prismáticos y telescopio \nMonitor especializado con certificación FAAE de Divulgación Astronómica.
URL:https://www.experienciaspositivas.es/event/taller-de-astronomia-orion-planetas-y-equinoccio-de-primavera/
LOCATION:Reserva natural de la Dehesa de Abajo\, carretera Venta al Cruce\, La Puebla del Río\, Sevilla\, España
CATEGORIES:Astronomía,doñana,naturaleza,Taller,turismo cientifico
ATTACH;FMTTYPE=image/jpeg:https://www.experienciaspositivas.es/wp-content/uploads/2024/12/foto-chula-rai-telescopio-lightpainting.jpg
ORGANIZER;CN="Experiencias Positivas":MAILTO:info@experienciaspositivas.es
END:VEVENT
END:VCALENDAR