BEGIN:VCALENDAR
VERSION:2.0
PRODID:-//Experiencias Positivas - ECPv6.9.0//NONSGML v1.0//EN
CALSCALE:GREGORIAN
METHOD:PUBLISH
X-WR-CALNAME:Experiencias Positivas
X-ORIGINAL-URL:https://www.experienciaspositivas.es
X-WR-CALDESC:Eventos para Experiencias Positivas
REFRESH-INTERVAL;VALUE=DURATION:PT1H
X-Robots-Tag:noindex
X-PUBLISHED-TTL:PT1H
BEGIN:VTIMEZONE
TZID:Europe/Madrid
BEGIN:DAYLIGHT
TZOFFSETFROM:+0100
TZOFFSETTO:+0200
TZNAME:CEST
DTSTART:20220327T010000
END:DAYLIGHT
BEGIN:STANDARD
TZOFFSETFROM:+0200
TZOFFSETTO:+0100
TZNAME:CET
DTSTART:20221030T010000
END:STANDARD
END:VTIMEZONE
BEGIN:VEVENT
DTSTART;TZID=Europe/Madrid:20220709T210000
DTEND;TZID=Europe/Madrid:20220709T230000
DTSTAMP:20260423T054537
CREATED:20220702T183500Z
LAST-MODIFIED:20220702T183501Z
UID:1245-1657400400-1657407600@www.experienciaspositivas.es
SUMMARY:Taller de Astronomía ESPECIAL LUNA
DESCRIPTION:El tema central será la luna\, que debido a su presencia en el cielo\, toma protagonismo: crearemos nuestro propio mapa lunar\, con sus cráteres\, mares y relieves. Hablaremos de Galileo y\, como él nos ha enseñado\, aprenderemos a tomar nota lo que observamos a través de prismáticos y telescopio. Cerramos la noche con una interpretación del cielo con puntero láser astronómico.
URL:https://www.experienciaspositivas.es/event/taller-de-astronomia-especial-luna-8/
LOCATION:Ermita de Cuatrovitas Bollullos de la Mitación\, Carretera Venta El cruce – Vado de Don Simón\, Km. 4.\, La Puebla del Río\, Siviglia\, 41130\, España
CATEGORIES:Astronomía,Taller,turismo cientifico
ATTACH;FMTTYPE=image/jpeg:https://www.experienciaspositivas.es/wp-content/uploads/2021/11/luna-cresciente.jpg
ORGANIZER;CN="Experiencias Positivas":MAILTO:info@experienciaspositivas.es
END:VEVENT
BEGIN:VEVENT
DTSTART;TZID=Europe/Madrid:20220730T210000
DTEND;TZID=Europe/Madrid:20220730T230000
DTSTAMP:20260423T054537
CREATED:20220703T111322Z
LAST-MODIFIED:20220722T073534Z
UID:1249-1659214800-1659222000@www.experienciaspositivas.es
SUMMARY:Astronomía en la Ermita de Cuatrovitas
DESCRIPTION:Taller de Astronomía de aprendizaje activo perfecto para familias\, a partir de 6/8 años. Hoy nos dedicamos a la constelación de Virgo.
URL:https://www.experienciaspositivas.es/event/taller-de-esde-astronomia/
LOCATION:Ermita de Cuatrovitas Bollullos de la Mitación\, Carretera Venta El cruce – Vado de Don Simón\, Km. 4.\, La Puebla del Río\, Siviglia\, 41130\, España
CATEGORIES:Astronomía,Taller,turismo cientifico
ATTACH;FMTTYPE=image/jpeg:https://www.experienciaspositivas.es/wp-content/uploads/2021/08/taller-de-astronomia-en-Cuatrovitas-bollullos-a-punto-de-empezar.jpg
ORGANIZER;CN="Experiencias Positivas":MAILTO:info@experienciaspositivas.es
END:VEVENT
END:VCALENDAR