BEGIN:VCALENDAR
VERSION:2.0
PRODID:-//Experiencias Positivas - ECPv6.9.0//NONSGML v1.0//EN
CALSCALE:GREGORIAN
METHOD:PUBLISH
X-WR-CALNAME:Experiencias Positivas
X-ORIGINAL-URL:https://www.experienciaspositivas.es
X-WR-CALDESC:Eventos para Experiencias Positivas
REFRESH-INTERVAL;VALUE=DURATION:PT1H
X-Robots-Tag:noindex
X-PUBLISHED-TTL:PT1H
BEGIN:VTIMEZONE
TZID:Europe/Madrid
BEGIN:DAYLIGHT
TZOFFSETFROM:+0100
TZOFFSETTO:+0200
TZNAME:CEST
DTSTART:20220327T010000
END:DAYLIGHT
BEGIN:STANDARD
TZOFFSETFROM:+0200
TZOFFSETTO:+0100
TZNAME:CET
DTSTART:20221030T010000
END:STANDARD
END:VTIMEZONE
BEGIN:VEVENT
DTSTART;TZID=Europe/Madrid:20220809T210000
DTEND;TZID=Europe/Madrid:20220809T230000
DTSTAMP:20260423T043216
CREATED:20220804T102725Z
LAST-MODIFIED:20220804T102726Z
UID:1261-1660078800-1660086000@www.experienciaspositivas.es
SUMMARY:Especial LUNA
DESCRIPTION:El tema central será la luna\, que debido a su presencia en el cielo\, toma protagonismo: crearemos nuestro propio mapa lunar\, con sus cráteres\, mares y relieves. Hablaremos de Galileo y\, como él nos ha enseñado\, aprenderemos a tomar nota lo que observamos a través de prismáticos y telescopio. Cerramos la noche con una interpretación del cielo con puntero láser astronómico.
URL:https://www.experienciaspositivas.es/event/especial-luna/
LOCATION:Ermita de Cuatrovitas Bollullos de la Mitación\, Carretera Venta El cruce – Vado de Don Simón\, Km. 4.\, La Puebla del Río\, Siviglia\, 41130\, España
CATEGORIES:Astronomía,Taller,turismo cientifico
ATTACH;FMTTYPE=image/jpeg:https://www.experienciaspositivas.es/wp-content/uploads/2021/11/luna-cresciente.jpg
ORGANIZER;CN="Experiencias Positivas":MAILTO:info@experienciaspositivas.es
END:VEVENT
BEGIN:VEVENT
DTSTART;TZID=Europe/Madrid:20220817T210000
DTEND;TZID=Europe/Madrid:20220817T234500
DTSTAMP:20260423T043216
CREATED:20220804T110324Z
LAST-MODIFIED:20230717T155213Z
UID:1266-1660770000-1660779900@www.experienciaspositivas.es
SUMMARY:Lluvias de Estrellas - prepara tus deseos.....
DESCRIPTION:La lluvia de estrellas más famosa del año está aquí!! Vamos a recibirla preparados con los deseos que hayamos pensado «pedir»… sin olvidar\, amigos\, que los deseos son secretos! \nLa reserva natural de La Dehesa de Abajo ofrece un cielo abierto y limpio\, perfecto para la ocasión. \nMientras tanto\, interpretación del cielo con puntero láser y observación con prismáticos y telescopio en un lugar que el año pasado nos ha dado gran satisfacción con varios meteoros. Ausencia de luna\, presencia de vía láctea\, constelaciones de verano. Mantas y sillas bienvenidas. Grupo Reducido! Como siempre\, interpretaremos el entorno también\, que lo merece.
URL:https://www.experienciaspositivas.es/event/lluvias-de-estrellas-prepara-tus-deseos/
LOCATION:La Puebla del Río\, La Puebla del Río\, Siviglia\, 41130\, España
CATEGORIES:Astronomía,Taller,turismo cientifico
ATTACH;FMTTYPE=image/jpeg:https://www.experienciaspositivas.es/wp-content/uploads/2021/12/Dehesa_experiencias_positivas_movil_marca_agua1.jpg
END:VEVENT
BEGIN:VEVENT
DTSTART;TZID=Europe/Madrid:20220820T204500
DTEND;TZID=Europe/Madrid:20220820T224500
DTSTAMP:20260423T043216
CREATED:20220804T104314Z
LAST-MODIFIED:20220804T104315Z
UID:1263-1661028300-1661035500@www.experienciaspositivas.es
SUMMARY:Taller de Astronomía: Escorpio
DESCRIPTION:Taller de Astronomía de aprendizaje activo\, plazas limitadas a 30. Disfrutaremos de un entorno natural espectacular y aprenderemos conceptos científicos básicos de astronomía\, historias antiguas y mitos «estelares» que han moldeado nuestra cultura. Aprenderemos a reconocer la estrella polar y nos familiarizamos con la magnífica constelación de ESCORPIO. Aprovecharemos de la presencia de la vía Láctea para comentar hitos recientes de la investigación en astrofísica.
URL:https://www.experienciaspositivas.es/event/taller-de-astronomia-escorpio/
LOCATION:Ermita de Cuatrovitas Bollullos de la Mitación\, Carretera Venta El cruce – Vado de Don Simón\, Km. 4.\, La Puebla del Río\, Siviglia\, 41130\, España
CATEGORIES:Astronomía,Taller,turismo cientifico
ATTACH;FMTTYPE=image/jpeg:https://www.experienciaspositivas.es/wp-content/uploads/2022/08/cuatrovitas-cielo-oscuro-luna-toprre.jpeg
ORGANIZER;CN="Experiencias Positivas":MAILTO:info@experienciaspositivas.es
END:VEVENT
BEGIN:VEVENT
DTSTART;TZID=Europe/Madrid:20220826T204500
DTEND;TZID=Europe/Madrid:20220826T224500
DTSTAMP:20260423T043216
CREATED:20220804T110811Z
LAST-MODIFIED:20220804T110812Z
UID:1270-1661546700-1661553900@www.experienciaspositivas.es
SUMMARY:Taller de Astronomía: Escorpio
DESCRIPTION:Taller de Astronomía de aprendizaje activo\, plazas limitadas a 30. Disfrutaremos de un entorno natural espectacular y aprenderemos conceptos científicos básicos de astronomía\, historias antiguas y mitos «estelares» que han moldeado nuestra cultura. Aprenderemos a reconocer la estrella polar y nos familiarizamos con la magnífica constelación de ESCORPIO. Aprovecharemos de la presencia de la vía Láctea para comentar hitos recientes de la investigación en astrofísica.
URL:https://www.experienciaspositivas.es/event/taller-de-astronomia-escorpio-2/
LOCATION:Reserva natural de la Dehesa de Abajo\, carretera Venta al Cruce\, La Puebla del Río\, Sevilla\, España
CATEGORIES:Astronomía,Taller,turismo cientifico
ATTACH;FMTTYPE=image/jpeg:https://www.experienciaspositivas.es/wp-content/uploads/2022/08/oscurece-en-la-dehesa.jpg
ORGANIZER;CN="Experiencias Positivas":MAILTO:info@experienciaspositivas.es
END:VEVENT
END:VCALENDAR