BEGIN:VCALENDAR
VERSION:2.0
PRODID:-//Experiencias Positivas - ECPv6.9.0//NONSGML v1.0//EN
CALSCALE:GREGORIAN
METHOD:PUBLISH
X-ORIGINAL-URL:https://www.experienciaspositivas.es
X-WR-CALDESC:Eventos para Experiencias Positivas
REFRESH-INTERVAL;VALUE=DURATION:PT1H
X-Robots-Tag:noindex
X-PUBLISHED-TTL:PT1H
BEGIN:VTIMEZONE
TZID:Europe/Madrid
BEGIN:DAYLIGHT
TZOFFSETFROM:+0100
TZOFFSETTO:+0200
TZNAME:CEST
DTSTART:20220327T010000
END:DAYLIGHT
BEGIN:STANDARD
TZOFFSETFROM:+0200
TZOFFSETTO:+0100
TZNAME:CET
DTSTART:20221030T010000
END:STANDARD
END:VTIMEZONE
BEGIN:VEVENT
DTSTART;TZID=Europe/Madrid:20221112T171500
DTEND;TZID=Europe/Madrid:20221112T193000
DTSTAMP:20260423T000134
CREATED:20221107T173400Z
LAST-MODIFIED:20221107T175609Z
UID:1300-1668273300-1668281400@www.experienciaspositivas.es
SUMMARY:TALLER DE ASTRONOMÍA
DESCRIPTION:En un lugar de gran belleza\, en La Dehesa de Abajo de la Reserva de la Biosfera de Doñana\, te esperamos para conocer nuestra taller de astronomía de aprendizaje activo\, apto para adultos y niños. Todos podemos disfrutar de la belleza del cielo nocturno y más aún cuando aprendemos a entender lo que estamos viendo. Este mes nos dedicamos a la constelación del Cisne\, que despliega sus alas de estrellas en la Vía Láctea. Vive con nosotros 2 horas de puro disfrute del entorno y del aire libre…el cielo nocturno nos revelará sus secretos. Actividad perfecta para acercarse a la astronomía.
URL:https://www.experienciaspositivas.es/event/https-www-experienciaspositivas-es-event-1300-https-www-experienciaspositivas-es-taller-de-astronomia/
LOCATION:Reserva natural de la Dehesa de Abajo\, carretera Venta al Cruce\, La Puebla del Río\, Sevilla\, España
CATEGORIES:Astronomía,sevilla,Taller,turismo cientifico
ATTACH;FMTTYPE=image/jpeg:https://www.experienciaspositivas.es/wp-content/uploads/2021/12/Dehesa_experiencias_positivas_movil_marca_agua1.jpg
ORGANIZER;CN="Experiencias Positivas":MAILTO:info@experienciaspositivas.es
END:VEVENT
BEGIN:VEVENT
DTSTART;TZID=Europe/Madrid:20221126T171500
DTEND;TZID=Europe/Madrid:20221126T193000
DTSTAMP:20260423T000134
CREATED:20221107T175007Z
LAST-MODIFIED:20221107T175008Z
UID:1302-1669482900-1669491000@www.experienciaspositivas.es
SUMMARY:Taller de Astronomía centrado en la constelación del Cisne
DESCRIPTION:En un lugar de gran belleza\, en La Dehesa de Abajo de la Reserva de la Biosfera de Doñana\, te esperamos para conocer nuestro taller de astronomía de aprendizaje activo\, apto para adultos y niños. Todos podemos disfrutar de la belleza del cielo nocturno y más aún cuando aprendemos a entender lo que estamos viendo. Este mes nos dedicamos a la constelación del Cisne\, que despliega sus alas de estrellas en la Vía Láctea. Vive con nosotros 2 horas de puro disfrute del entorno y del aire libre…el cielo nocturno nos revelará sus secretos. Actividad perfecta para acercarse a la astronomía. \nPuedes consultar las previsiones del tiempo https://www.aemet.es/es/eltiempo/prediccion/municipios/puebla-del-rio-la-id41079 antes de reservar\, pero no debes preocuparte: si el tiempo no acompaña aplazamos la actividad o devolvemos el dinero. \n 
URL:https://www.experienciaspositivas.es/event/taller-de-astronomia-centrado-en-la-constelacion-del-cisne/
LOCATION:Reserva natural de la Dehesa de Abajo\, carretera Venta al Cruce\, La Puebla del Río\, Sevilla\, España
CATEGORIES:Astronomía,sevilla,Taller,turismo cientifico
ATTACH;FMTTYPE=image/jpeg:https://www.experienciaspositivas.es/wp-content/uploads/2021/08/IMG_20190309_191221-scaled.jpg
ORGANIZER;CN="Experiencias Positivas":MAILTO:info@experienciaspositivas.es
END:VEVENT
END:VCALENDAR