BEGIN:VCALENDAR
VERSION:2.0
PRODID:-//Experiencias Positivas - ECPv6.9.0//NONSGML v1.0//EN
CALSCALE:GREGORIAN
METHOD:PUBLISH
X-ORIGINAL-URL:https://www.experienciaspositivas.es
X-WR-CALDESC:Eventos para Experiencias Positivas
REFRESH-INTERVAL;VALUE=DURATION:PT1H
X-Robots-Tag:noindex
X-PUBLISHED-TTL:PT1H
BEGIN:VTIMEZONE
TZID:Europe/Madrid
BEGIN:DAYLIGHT
TZOFFSETFROM:+0100
TZOFFSETTO:+0200
TZNAME:CEST
DTSTART:20230326T010000
END:DAYLIGHT
BEGIN:STANDARD
TZOFFSETFROM:+0200
TZOFFSETTO:+0100
TZNAME:CET
DTSTART:20231029T010000
END:STANDARD
END:VTIMEZONE
BEGIN:VEVENT
DTSTART;TZID=Europe/Madrid:20230805T210000
DTEND;TZID=Europe/Madrid:20230805T230000
DTSTAMP:20260422T103222
CREATED:20230720T173441Z
LAST-MODIFIED:20230720T175308Z
UID:1374-1691269200-1691276400@www.experienciaspositivas.es
SUMMARY:Taller de astronomía - constelaciones estivales
DESCRIPTION:Taller donde nos dedicamos a comprender los conceptos elementales de astronomía para disfrutar de una observación acompañada de un real aprendizaje. \nNos dedicamos a las constelaciones estivales. Disponemos de puntero láser astronómico\, prismáticos y telescopio. \nEl lugar ofrece un cielo de buena calidad\, muy abierto en contacto con la naturaleza. Reserva de la Biosfera de Doñana.
URL:https://www.experienciaspositivas.es/event/taller-de-astronomia-constelaciones-estivales/
LOCATION:Reserva natural de la Dehesa de Abajo\, carretera Venta al Cruce\, La Puebla del Río\, Sevilla\, España
CATEGORIES:Astronomía,Taller,turismo cientifico
ATTACH;FMTTYPE=image/jpeg:https://www.experienciaspositivas.es/wp-content/uploads/2019/08/materiales-en-la-mesa.jpg
ORGANIZER;CN="Experiencias Positivas":MAILTO:info@experienciaspositivas.es
END:VEVENT
BEGIN:VEVENT
DTSTART;TZID=Europe/Madrid:20230812T220000
DTEND;TZID=Europe/Madrid:20230812T220000
DTSTAMP:20260422T103222
CREATED:20230717T155021Z
LAST-MODIFIED:20230717T155022Z
UID:1366-1691877600-1691877600@www.experienciaspositivas.es
SUMMARY:Observación de Perseidas en Doñana
DESCRIPTION:La reserva natural de La Dehesa de Abajo ofrece un cielo abierto y limpio\, perfecto para observar la «lluvia de estrellas» más famosa del año. Es un lugar que el año pasado nos ha dado gran satisfacción con varios meteoros. \nPodremos disfrutar de la naturaleza sin quitar los ojos del cielo para no perdernos ni un meteoro…El silencio fresco y oscuro de la noche se llenará de sonidos de cigüeñas\, milanos\, chotacabras\, grillos y mochuelos\, en un entorno seguro y agradable. \nTendremos momentos de interpretación del cielo con puntero láser y observación con prismáticos y telescopio. Ausencia de luna\, presencia de vía láctea\, constelaciones de verano. \nNo olvides traer una manta o sillas\, picnic y ropa de abrigo y una linterna forrada de rojo.
URL:https://www.experienciaspositivas.es/event/observacion-de-perseidas-en-donana/
LOCATION:Reserva natural de la Dehesa de Abajo\, carretera Venta al Cruce\, La Puebla del Río\, Sevilla\, España
CATEGORIES:Astronomía,sevilla,turismo cientifico
ATTACH;FMTTYPE=image/jpeg:https://www.experienciaspositivas.es/wp-content/uploads/2021/12/Dehesa_experiencias_positivas_movil_marca_agua1.jpg
ORGANIZER;CN="Experiencias Positivas":MAILTO:info@experienciaspositivas.es
END:VEVENT
BEGIN:VEVENT
DTSTART;TZID=Europe/Madrid:20230826T210000
DTEND;TZID=Europe/Madrid:20230826T230000
DTSTAMP:20260422T103222
CREATED:20230720T171734Z
LAST-MODIFIED:20230720T171735Z
UID:1372-1693083600-1693090800@www.experienciaspositivas.es
SUMMARY:Taller de Astronomía - ESPECIAL LUNA
DESCRIPTION:¿Sabes que los cráteres de la luna tienen nombre ? ¿Te gustaría aprender a encontrar el cráter dedicado a Alfonso X el sabio… o a Platón? Nos dedicamos a observar y estudiar nuestro fascinante satélite natural\, en la reserva natural La Dehesa De Abajo\, a pocos kilómetros de Sevilla. \n 
URL:https://www.experienciaspositivas.es/event/taller-de-astronomia-especial-luna-9/
LOCATION:Reserva natural de la Dehesa de Abajo\, carretera Venta al Cruce\, La Puebla del Río\, Sevilla\, España
CATEGORIES:Astronomía,Taller,turismo cientifico
ATTACH;FMTTYPE=image/jpeg:https://www.experienciaspositivas.es/wp-content/uploads/2021/11/luna-cresciente.jpg
ORGANIZER;CN="Experiencias Positivas":MAILTO:info@experienciaspositivas.es
END:VEVENT
BEGIN:VEVENT
DTSTART;TZID=Europe/Madrid:20230829T211500
DTEND;TZID=Europe/Madrid:20230829T235500
DTSTAMP:20260422T103222
CREATED:20230720T170758Z
LAST-MODIFIED:20230720T171148Z
UID:1368-1693343700-1693353300@www.experienciaspositivas.es
SUMMARY:Ruta nocturna y observación de La Luna al final - una aventura a pocos km de Sevilla es posible...
DESCRIPTION:Para el cofre de recuerdos inolvidables: martes 29/08/2023 RUTA NOCTURNA CIRCULAR de 3 km en La Dehesa de Abajo + OBSERVACIÓN E INTERPRETACIÓN DE LA LUNA AL FINAL.\nGrupo acompañado por dos monitores: guía interprete de naturaleza y monitor especializado astronomía.\nHora de quedada y salida 21:20 ( casi la hora de la puesta de sol) Grupo mínimo 15 personas\, máximo 25. Edad recomendada a partir de: 8 años. Precio por persona 15€ La reserva y pago previo son necesarios\, escribiendo a experiencias.positivas.sevilla@gmail.com o a través de formulario de contacto.\nLos asistentes podrán traer su pic-nic. Recomendamos mangas largas\, zapatos cerrados de senderismo\, loción anti-mosquitos y una linterna envuelta en papel rojo para momentos puntuales. La idea es disfrutar de la oscuridad de la noche!\n\n#rutanocturna #lapuebladelrio #ladehesadeabajo #reservanatural #reservadelabiosfera #doñana #luna
URL:https://www.experienciaspositivas.es/event/ruta-nocturna-y-observacion-de-la-luna-al-final-una-aventura-a-pocos-km-de-sevilla-es-posible/
LOCATION:Reserva natural de la Dehesa de Abajo\, carretera Venta al Cruce\, La Puebla del Río\, Sevilla\, España
CATEGORIES:Astronomía,Rutas,turismo cientifico
ATTACH;FMTTYPE=image/jpeg:https://www.experienciaspositivas.es/wp-content/uploads/2023/07/nocturno-nene-planetas.jpeg
ORGANIZER;CN="Experiencias Positivas":MAILTO:info@experienciaspositivas.es
END:VEVENT
END:VCALENDAR