BEGIN:VCALENDAR
VERSION:2.0
PRODID:-//Experiencias Positivas - ECPv6.9.0//NONSGML v1.0//EN
CALSCALE:GREGORIAN
METHOD:PUBLISH
X-WR-CALNAME:Experiencias Positivas
X-ORIGINAL-URL:https://www.experienciaspositivas.es
X-WR-CALDESC:Eventos para Experiencias Positivas
REFRESH-INTERVAL;VALUE=DURATION:PT1H
X-Robots-Tag:noindex
X-PUBLISHED-TTL:PT1H
BEGIN:VTIMEZONE
TZID:Europe/Madrid
BEGIN:DAYLIGHT
TZOFFSETFROM:+0100
TZOFFSETTO:+0200
TZNAME:CEST
DTSTART:20240331T010000
END:DAYLIGHT
BEGIN:STANDARD
TZOFFSETFROM:+0200
TZOFFSETTO:+0100
TZNAME:CET
DTSTART:20241027T010000
END:STANDARD
END:VTIMEZONE
BEGIN:VEVENT
DTSTART;TZID=Europe/Madrid:20240809T210000
DTEND;TZID=Europe/Madrid:20240809T230000
DTSTAMP:20260421T163758
CREATED:20240804T170804Z
LAST-MODIFIED:20240804T170847Z
UID:1433-1723237200-1723244400@www.experienciaspositivas.es
SUMMARY:ASTRONOMÍA URBANA: Las Constelaciones del Cielo
DESCRIPTION:¡¡Los urbanitas también aman el cielo nocturno!! Quedamos en una zona oscura del parque del Alamillo\, cerca del monumento al maestro. Aprovechamos que los focos están apagados durante unas horas\, para APRENDER A RECONOCER LAS PRINCIPALES CONSTELACIONES DE VERANO. Los participantes van a construir su PLANISFERIO CELESTE\, un mapa del cielo que les acompañará durante toda una vida de afición a las estrellas. Las luces de la ciudad permiten distinguir las estrellas más brillantes y crean las condiciones ideales para un acercamiento básico a los principales asterismos. \nEdad recomendada: de 6 a 99\, descuentos para familias. \nMonitor divulgador Astronómico por la F.A.A.E. \n 
URL:https://www.experienciaspositivas.es/event/astronomia-urbana-las-constelaciones-del-cielo/
LOCATION:Sevilla
CATEGORIES:Astronomía,sevilla,Taller,turismo cientifico
ATTACH;FMTTYPE=image/jpeg:https://www.experienciaspositivas.es/wp-content/uploads/2021/08/IMG_20190309_191221-scaled.jpg
ORGANIZER;CN="Experiencias Positivas":MAILTO:info@experienciaspositivas.es
END:VEVENT
BEGIN:VEVENT
DTSTART;TZID=Europe/Madrid:20240810T210000
DTEND;TZID=Europe/Madrid:20240810T230000
DTSTAMP:20260421T163758
CREATED:20240804T172508Z
LAST-MODIFIED:20240804T172510Z
UID:1435-1723323600-1723330800@www.experienciaspositivas.es
SUMMARY:Taller de Astronomía: Constelaciones en le Ermita de Cuatrovitas
DESCRIPTION:Realizamos un taller para APRENDER A RECONOCER LAS PRINCIPALES CONSTELACIONES DE VERANO. Los participantes van a construir su PLANISFERIO CELESTE\, un mapa del cielo que les acompañará durante toda una vida de afición a las estrellas. La Ermita de Cuatrovitas en Bollullos es un monumento singular\, te encantará conocer su historia… Si tenemos suerte veremos alguna ESTRELLA FUGAZ\, satélites y esperaremos la salida de SATURNO para observarlo con telescopio\, aunque estos meses no nos está enseñando su mejor perfil ; )…\nedad recomendada: de 6 a 99\, descuento especial de verano para familias. \nMonitor especializado Divulgador Astronómico F.A.A.E.
URL:https://www.experienciaspositivas.es/event/taller-de-astronomia-constelaciones-en-le-ermita-de-cuatrovitas/
LOCATION:Ermita de Cuatrovitas Bollullos de la Mitación\, Carretera Venta El cruce – Vado de Don Simón\, Km. 4.\, La Puebla del Río\, Siviglia\, 41130\, España
CATEGORIES:Astronomía,Taller,turismo cientifico
ATTACH;FMTTYPE=image/jpeg:https://www.experienciaspositivas.es/wp-content/uploads/2021/08/taller-de-astronomia-en-Cuatrovitas-bollullos-a-punto-de-empezar.jpg
END:VEVENT
BEGIN:VEVENT
DTSTART;TZID=Europe/Madrid:20240823T203000
DTEND;TZID=Europe/Madrid:20240823T223000
DTSTAMP:20260421T163758
CREATED:20240804T172736Z
LAST-MODIFIED:20240804T172737Z
UID:1438-1724445000-1724452200@www.experienciaspositivas.es
SUMMARY:Astronomía en la Ermita
DESCRIPTION:Realizamos un taller para APRENDER A RECONOCER LAS PRINCIPALES CONSTELACIONES DE VERANO. Los participantes van a construir su PLANISFERIO CELESTE\, un mapa del cielo que les acompañará durante toda una vida de afición a las estrellas. La Ermita de Cuatrovitas en Bollullos es un monumento singular\, te encantará conocer su historia… Si tenemos suerte veremos alguna ESTRELLA FUGAZ\, satélites y esperaremos la salida de SATURNO para observarlo con telescopio\, aunque estos meses no nos está enseñando su mejor perfil ; )…\nedad recomendada: de 6 a 99\, descuento especial de verano para familias. \nMonitor especializado Divulgador Astronómico F.A.A.E.
URL:https://www.experienciaspositivas.es/event/astronomia-en-la-ermita/
LOCATION:Ermita de Cuatrovitas Bollullos de la Mitación\, Carretera Venta El cruce – Vado de Don Simón\, Km. 4.\, La Puebla del Río\, Siviglia\, 41130\, España
CATEGORIES:Astronomía,Taller,turismo cientifico
ATTACH;FMTTYPE=image/jpeg:https://www.experienciaspositivas.es/wp-content/uploads/2021/08/taller-de-astronomia-en-Cuatrovitas-bollullos-a-punto-de-empezar.jpg
ORGANIZER;CN="Experiencias Positivas":MAILTO:info@experienciaspositivas.es
END:VEVENT
END:VCALENDAR