BEGIN:VCALENDAR
VERSION:2.0
PRODID:-//Experiencias Positivas - ECPv6.9.0//NONSGML v1.0//EN
CALSCALE:GREGORIAN
METHOD:PUBLISH
X-ORIGINAL-URL:https://www.experienciaspositivas.es
X-WR-CALDESC:Eventos para Experiencias Positivas
REFRESH-INTERVAL;VALUE=DURATION:PT1H
X-Robots-Tag:noindex
X-PUBLISHED-TTL:PT1H
BEGIN:VTIMEZONE
TZID:Europe/Madrid
BEGIN:DAYLIGHT
TZOFFSETFROM:+0100
TZOFFSETTO:+0200
TZNAME:CEST
DTSTART:20250330T010000
END:DAYLIGHT
BEGIN:STANDARD
TZOFFSETFROM:+0200
TZOFFSETTO:+0100
TZNAME:CET
DTSTART:20251026T010000
END:STANDARD
END:VTIMEZONE
BEGIN:VEVENT
DTSTART;TZID=Europe/Madrid:20251007T190000
DTEND;TZID=Europe/Madrid:20251007T223000
DTSTAMP:20260420T184031
CREATED:20250929T114320Z
LAST-MODIFIED:20250929T114321Z
UID:1635-1759863600-1759876200@www.experienciaspositivas.es
SUMMARY:Noche de Luna en La Dehesa de Abajo
DESCRIPTION:Una ruta nocturna imperdible\, para conocer los secretos de nuestra Reserva Natural preferida. Quiénes fueron las familias que vivieron aquí en las desaparecidas chozas? Cuáles especies animales emblemáticas podemos encontrar? Existe un mejor lugar en la Tierra para observar La Luna durante la Semana del Espacio y la Noche Internacional de observación de La Luna de la NASA??? \nUna colaboración entre Manuel Ardila\, Francisco Jamardo y Elena Comasni que se quedará para el recuerdo. \nOrganiza : Ayuntamiento de La Puebla del Río \nRuta nocturna de dificultad media. Edad mínima 2 años. \nBotas de andar y ropa larga \nInscripción previa obligatoria \n 
URL:https://www.experienciaspositivas.es/event/noche-de-luna-en-la-dehesa-de-abajo/
LOCATION:Reserva natural de la Dehesa de Abajo\, carretera Venta al Cruce\, La Puebla del Río\, Sevilla\, España
CATEGORIES:Astronomía,cultura,doñana,naturaleza,turismo cientifico
ATTACH;FMTTYPE=image/jpeg:https://www.experienciaspositivas.es/wp-content/uploads/2025/09/F-Jamardo-moritos-y-luna-llena-1.jpg
END:VEVENT
END:VCALENDAR