BEGIN:VCALENDAR
VERSION:2.0
PRODID:-//Experiencias Positivas - ECPv6.9.0//NONSGML v1.0//EN
CALSCALE:GREGORIAN
METHOD:PUBLISH
X-WR-CALNAME:Experiencias Positivas
X-ORIGINAL-URL:https://www.experienciaspositivas.es
X-WR-CALDESC:Eventos para Experiencias Positivas
REFRESH-INTERVAL;VALUE=DURATION:PT1H
X-Robots-Tag:noindex
X-PUBLISHED-TTL:PT1H
BEGIN:VTIMEZONE
TZID:Europe/Madrid
BEGIN:DAYLIGHT
TZOFFSETFROM:+0100
TZOFFSETTO:+0200
TZNAME:CEST
DTSTART:20220327T010000
END:DAYLIGHT
BEGIN:STANDARD
TZOFFSETFROM:+0200
TZOFFSETTO:+0100
TZNAME:CET
DTSTART:20221030T010000
END:STANDARD
END:VTIMEZONE
BEGIN:VEVENT
DTSTART;TZID=Europe/Madrid:20220423T200000
DTEND;TZID=Europe/Madrid:20220423T220000
DTSTAMP:20260423T112426
CREATED:20220330T170723Z
LAST-MODIFIED:20220404T165028Z
UID:1211-1650744000-1650751200@www.experienciaspositivas.es
SUMMARY:Taller de Astronomía - Constelación de Orión
DESCRIPTION:Astronomía y naturaleza en provincia de Sevilla. Puedes disfrutar de esta actividad en familia o entre amigos. Este mes nos dedicamos a la constelación de Orión. Perfecto para familias\, recomendada a partir de 6 años. Vive con nosotros 2 horas de puro disfrute del entorno y del aire libre! Taller de Astronomía de aprendizaje activo\, para adultos y niños en La Dehesa de Abajo en La Reserva de la Biosfera de Doñana.
URL:https://www.experienciaspositivas.es/event/taller-de-astronomia-constelacion-de-orion/
LOCATION:Ermita de Cuatrovitas Bollullos de la Mitación\, Carretera Venta El cruce – Vado de Don Simón\, Km. 4.\, La Puebla del Río\, Siviglia\, 41130\, España
CATEGORIES:Astronomía,Taller,turismo cientifico
ATTACH;FMTTYPE=image/jpeg:https://www.experienciaspositivas.es/wp-content/uploads/2021/08/IMG_20190309_191221-scaled.jpg
ORGANIZER;CN="Experiencias Positivas":MAILTO:info@experienciaspositivas.es
END:VEVENT
END:VCALENDAR