BEGIN:VCALENDAR
VERSION:2.0
PRODID:-//Experiencias Positivas - ECPv6.9.0//NONSGML v1.0//EN
CALSCALE:GREGORIAN
METHOD:PUBLISH
X-WR-CALNAME:Experiencias Positivas
X-ORIGINAL-URL:https://www.experienciaspositivas.es
X-WR-CALDESC:Eventos para Experiencias Positivas
REFRESH-INTERVAL;VALUE=DURATION:PT1H
X-Robots-Tag:noindex
X-PUBLISHED-TTL:PT1H
BEGIN:VTIMEZONE
TZID:Europe/Madrid
BEGIN:DAYLIGHT
TZOFFSETFROM:+0100
TZOFFSETTO:+0200
TZNAME:CEST
DTSTART:20220327T010000
END:DAYLIGHT
BEGIN:STANDARD
TZOFFSETFROM:+0200
TZOFFSETTO:+0100
TZNAME:CET
DTSTART:20221030T010000
END:STANDARD
END:VTIMEZONE
BEGIN:VEVENT
DTSTART;TZID=Europe/Madrid:20220910T203000
DTEND;TZID=Europe/Madrid:20220910T223000
DTSTAMP:20260423T043600
CREATED:20220903T201425Z
LAST-MODIFIED:20220903T201426Z
UID:1278-1662841800-1662849000@www.experienciaspositivas.es
SUMMARY:ESPECIAL LUNA - Taller de Astronomía
DESCRIPTION:La luna toma protagonismo. Crearemos nuestro propio mapa lunar\, con sus cráteres\, mares y relieves. Hablaremos de Galileo y aprenderemos a tomar nota lo que observamos a través de prismáticos y telescopio. Cerramos la noche con una interpretación del cielo con puntero láser astronómico. Una actividad perfecta para adultos y niños a partir de 6 años.
URL:https://www.experienciaspositivas.es/event/especial-luna-taller-de-astronomia-2/
LOCATION:Reserva natural de la Dehesa de Abajo\, carretera Venta al Cruce\, La Puebla del Río\, Sevilla\, España
CATEGORIES:Astronomía,cultura,Taller,turismo cientifico
ATTACH;FMTTYPE=image/jpeg:https://www.experienciaspositivas.es/wp-content/uploads/2021/11/luna-cresciente.jpg
ORGANIZER;CN="Experiencias Positivas":MAILTO:info@experienciaspositivas.es
END:VEVENT
END:VCALENDAR