BEGIN:VCALENDAR
VERSION:2.0
PRODID:-//Experiencias Positivas - ECPv6.9.0//NONSGML v1.0//EN
CALSCALE:GREGORIAN
METHOD:PUBLISH
X-ORIGINAL-URL:https://www.experienciaspositivas.es
X-WR-CALDESC:Eventos para Experiencias Positivas
REFRESH-INTERVAL;VALUE=DURATION:PT1H
X-Robots-Tag:noindex
X-PUBLISHED-TTL:PT1H
BEGIN:VTIMEZONE
TZID:Europe/Madrid
BEGIN:DAYLIGHT
TZOFFSETFROM:+0100
TZOFFSETTO:+0200
TZNAME:CEST
DTSTART:20220327T010000
END:DAYLIGHT
BEGIN:STANDARD
TZOFFSETFROM:+0200
TZOFFSETTO:+0100
TZNAME:CET
DTSTART:20221030T010000
END:STANDARD
END:VTIMEZONE
BEGIN:VEVENT
DTSTART;TZID=Europe/Madrid:20220917T200000
DTEND;TZID=Europe/Madrid:20220917T220000
DTSTAMP:20260423T043714
CREATED:20220903T160546Z
LAST-MODIFIED:20220903T161058Z
UID:1276-1663444800-1663452000@www.experienciaspositivas.es
SUMMARY:Taller de Astronomía - constelación de Pegaso
DESCRIPTION:Plazas limitadas a 30. El entorno natural espectacular facilitará el aprendizaje de conceptos científicos básicos de astronomía\, todo acompañado de los antiguos mitos que han moldeado nuestra cultura. Aprenderemos a reconocer la estrella polar y nos familiarizamos con la magnífica constelación de Pegaso. Aprovecharemos de la presencia de la vía Láctea para comentar hitos recientes de la investigación en astrofísica. Reserva de la Biosfera de Doñana
URL:https://www.experienciaspositivas.es/event/taller-de-astronomia-constelacion-de-pegaso/
LOCATION:Reserva natural de la Dehesa de Abajo\, carretera Venta al Cruce\, La Puebla del Río\, Sevilla\, España
CATEGORIES:Astronomía,Taller,turismo cientifico
ATTACH;FMTTYPE=image/jpeg:https://www.experienciaspositivas.es/wp-content/uploads/2021/12/Dehesa_experiencias_positivas_movil_marca_agua1.jpg
ORGANIZER;CN="Experiencias Positivas":MAILTO:info@experienciaspositivas.es
END:VEVENT
END:VCALENDAR