BEGIN:VCALENDAR
VERSION:2.0
PRODID:-//Experiencias Positivas - ECPv6.9.0//NONSGML v1.0//EN
CALSCALE:GREGORIAN
METHOD:PUBLISH
X-WR-CALNAME:Experiencias Positivas
X-ORIGINAL-URL:https://www.experienciaspositivas.es
X-WR-CALDESC:Eventos para Experiencias Positivas
REFRESH-INTERVAL;VALUE=DURATION:PT1H
X-Robots-Tag:noindex
X-PUBLISHED-TTL:PT1H
BEGIN:VTIMEZONE
TZID:Europe/Madrid
BEGIN:DAYLIGHT
TZOFFSETFROM:+0100
TZOFFSETTO:+0200
TZNAME:CEST
DTSTART:20220327T010000
END:DAYLIGHT
BEGIN:STANDARD
TZOFFSETFROM:+0200
TZOFFSETTO:+0100
TZNAME:CET
DTSTART:20221030T010000
END:STANDARD
END:VTIMEZONE
BEGIN:VEVENT
DTSTART;TZID=Europe/Madrid:20221001T190000
DTEND;TZID=Europe/Madrid:20221001T230000
DTSTAMP:20260423T031139
CREATED:20220914T191836Z
LAST-MODIFIED:20220926T161535Z
UID:1283-1664650800-1664665200@www.experienciaspositivas.es
SUMMARY:NOCHE INTERNACIONAL DE OBSERVAR LA LUNA "IOMN" de la NASA
DESCRIPTION:El ESPECIAL LUNA de hoy es ¡¡ realmente especial !!  \nHoy es la Noche internacional de Observar la Luna o sea International Observe the Moon Day \nNos sumamos a otras miles de personas que alrededor del mundo están observando\, estudiando y aprendiendo a conocer la luna. Este evento mundial es organizado cada año por la NASA y para nosotros es el segundo año de participación. Estamos preparando algo realmente completo e interesante para vosotros! Hablaremos de ciencia y de exploración\, en particular del programa Artemis que está a punto de lanzar. Utilizaremos y repartiremos una selección materiales impresos que la agencia espacial americana pone a disposición. Dibujaremos nuestra luna como verdaderos científicos/artistas y tendremos en nuestras manos una maqueta de la nave espacial ORIÓN que reproduce la que pronto llevará nuestros astronautas a la luna! Durante toda la actividad tendremos a disposición prismáticos y telescopio.  \n¡¡ Será emocionante sentirse parte de la gran comunidad de personas que observan la luna todos a la vez !!  \nAquí puedes encontrarnos en el mapa mundial de eventos registrados: https://moon.nasa.gov/observe-the-moon-night/participate/find-an-event/ \n  \nImage Credit: NASA Goddard Space Flight Center/Lydia Mastrangelo and Molly Mignano
URL:https://www.experienciaspositivas.es/event/noche-internacional-de-observar-la-luna-iomn-de-la-nasa/
LOCATION:Reserva natural de la Dehesa de Abajo\, carretera Venta al Cruce\, La Puebla del Río\, Sevilla\, España
CATEGORIES:Astronomía,cultura,Taller,turismo cientifico
ATTACH;FMTTYPE=image/jpeg:https://www.experienciaspositivas.es/wp-content/uploads/2022/09/MoonPhases_ObserveTheMoon_Poster-scaled.jpg
ORGANIZER;CN="Experiencias Positivas":MAILTO:info@experienciaspositivas.es
END:VEVENT
END:VCALENDAR