BEGIN:VCALENDAR
VERSION:2.0
PRODID:-//Experiencias Positivas - ECPv6.9.0//NONSGML v1.0//EN
CALSCALE:GREGORIAN
METHOD:PUBLISH
X-ORIGINAL-URL:https://www.experienciaspositivas.es
X-WR-CALDESC:Eventos para Experiencias Positivas
REFRESH-INTERVAL;VALUE=DURATION:PT1H
X-Robots-Tag:noindex
X-PUBLISHED-TTL:PT1H
BEGIN:VTIMEZONE
TZID:Europe/Madrid
BEGIN:DAYLIGHT
TZOFFSETFROM:+0100
TZOFFSETTO:+0200
TZNAME:CEST
DTSTART:20220327T010000
END:DAYLIGHT
BEGIN:STANDARD
TZOFFSETFROM:+0200
TZOFFSETTO:+0100
TZNAME:CET
DTSTART:20221030T010000
END:STANDARD
END:VTIMEZONE
BEGIN:VEVENT
DTSTART;TZID=Europe/Madrid:20221015T191500
DTEND;TZID=Europe/Madrid:20221015T213000
DTSTAMP:20260423T031434
CREATED:20220926T152509Z
LAST-MODIFIED:20220926T152552Z
UID:1289-1665861300-1665869400@www.experienciaspositivas.es
SUMMARY:Taller de Astronomía - CONSTELACIÓN DE ANDRÓMEDA
DESCRIPTION:Taller de APRENDIZAJE ACTIVO con plazas limitadas a 30. El entorno natural espectacular facilitará el aprendizaje de conceptos científicos básicos de astronomía\, todo acompañado de los antiguos mitos que han moldeado nuestra cultura. Aprenderemos a reconocer la estrella polar y nos familiarizamos con la magnífica constelación de ANDRÓMEDA.  Reserva de la Biosfera de Doñana
URL:https://www.experienciaspositivas.es/event/taller-de-astronomia-constelacion-de-andromeda/
LOCATION:Reserva natural de la Dehesa de Abajo\, carretera Venta al Cruce\, La Puebla del Río\, Sevilla\, España
CATEGORIES:Astronomía,sevilla,Taller,turismo cientifico
ATTACH;FMTTYPE=image/jpeg:https://www.experienciaspositivas.es/wp-content/uploads/2022/08/oscurece-en-la-dehesa.jpg
ORGANIZER;CN="Experiencias Positivas":MAILTO:info@experienciaspositivas.es
END:VEVENT
END:VCALENDAR