BEGIN:VCALENDAR
VERSION:2.0
PRODID:-//Experiencias Positivas - ECPv6.9.0//NONSGML v1.0//EN
CALSCALE:GREGORIAN
METHOD:PUBLISH
X-WR-CALNAME:Experiencias Positivas
X-ORIGINAL-URL:https://www.experienciaspositivas.es
X-WR-CALDESC:Eventos para Experiencias Positivas
REFRESH-INTERVAL;VALUE=DURATION:PT1H
X-Robots-Tag:noindex
X-PUBLISHED-TTL:PT1H
BEGIN:VTIMEZONE
TZID:Europe/Madrid
BEGIN:DAYLIGHT
TZOFFSETFROM:+0100
TZOFFSETTO:+0200
TZNAME:CEST
DTSTART:20230326T010000
END:DAYLIGHT
BEGIN:STANDARD
TZOFFSETFROM:+0200
TZOFFSETTO:+0100
TZNAME:CET
DTSTART:20231029T010000
END:STANDARD
END:VTIMEZONE
BEGIN:VEVENT
DTSTART;TZID=Europe/Madrid:20230121T173000
DTEND;TZID=Europe/Madrid:20230121T193000
DTSTAMP:20260422T223450
CREATED:20230103T181333Z
LAST-MODIFIED:20230103T185810Z
UID:1311-1674322200-1674329400@www.experienciaspositivas.es
SUMMARY:TALLER DE ASTRONOMÍA
DESCRIPTION:En un lugar de gran belleza\, en La Dehesa de Abajo de la Reserva de la Biosfera de Doñana\, te esperamos para conocer nuestro taller de astronomía de aprendizaje activo\, apto para adultos y niños. Todos podemos disfrutar de la belleza del cielo nocturno y más aún cuando aprendemos a entender lo que estamos viendo. Este mes nos dedicamos a la constelación de Orión. Vive con nosotros 2 horas de puro disfrute del entorno y del aire libre…el cielo nocturno nos revelará sus secretos. Actividad perfecta para acercarse a la astronomía.
URL:https://www.experienciaspositivas.es/event/taller-de-astronomia-25/
LOCATION:Reserva natural de la Dehesa de Abajo\, carretera Venta al Cruce\, La Puebla del Río\, Sevilla\, España
CATEGORIES:Astronomía,Taller,turismo cientifico
ATTACH;FMTTYPE=image/jpeg:https://www.experienciaspositivas.es/wp-content/uploads/2022/08/oscurece-en-la-dehesa.jpg
ORGANIZER;CN="Experiencias Positivas":MAILTO:info@experienciaspositivas.es
END:VEVENT
END:VCALENDAR