BEGIN:VCALENDAR
VERSION:2.0
PRODID:-//Experiencias Positivas - ECPv6.9.0//NONSGML v1.0//EN
CALSCALE:GREGORIAN
METHOD:PUBLISH
X-WR-CALNAME:Experiencias Positivas
X-ORIGINAL-URL:https://www.experienciaspositivas.es
X-WR-CALDESC:Eventos para Experiencias Positivas
REFRESH-INTERVAL;VALUE=DURATION:PT1H
X-Robots-Tag:noindex
X-PUBLISHED-TTL:PT1H
BEGIN:VTIMEZONE
TZID:Europe/Madrid
BEGIN:DAYLIGHT
TZOFFSETFROM:+0100
TZOFFSETTO:+0200
TZNAME:CEST
DTSTART:20230326T010000
END:DAYLIGHT
BEGIN:STANDARD
TZOFFSETFROM:+0200
TZOFFSETTO:+0100
TZNAME:CET
DTSTART:20231029T010000
END:STANDARD
END:VTIMEZONE
BEGIN:VEVENT
DTSTART;TZID=Europe/Madrid:20230128T173000
DTEND;TZID=Europe/Madrid:20230128T193000
DTSTAMP:20260422T223538
CREATED:20230103T182511Z
LAST-MODIFIED:20230103T185632Z
UID:1314-1674927000-1674934200@www.experienciaspositivas.es
SUMMARY:Taller de Astronomía
DESCRIPTION:Las plazas son limitadas a 30. El entorno natural espectacular facilitará el aprendizaje de conceptos científicos básicos de astronomía\, hablaremos de sondas espaciales y exploración del universo\, planetas\, satélites y constelaciones. Como siempre\, aprenderemos a reconocer la estrella polar y disfrutaremos de la Reserva de la Biosfera de Doñana.
URL:https://www.experienciaspositivas.es/event/taller-de-astronomia-26/
LOCATION:Reserva natural de la Dehesa de Abajo\, carretera Venta al Cruce\, La Puebla del Río\, Sevilla\, España
CATEGORIES:Astronomía,Taller,turismo cientifico
ATTACH;FMTTYPE=image/jpeg:https://www.experienciaspositivas.es/wp-content/uploads/2022/09/sistema-solar-nasa.gov_-scaled.jpg
ORGANIZER;CN="Experiencias Positivas":MAILTO:info@experienciaspositivas.es
END:VEVENT
END:VCALENDAR