BEGIN:VCALENDAR
VERSION:2.0
PRODID:-//Experiencias Positivas - ECPv6.9.0//NONSGML v1.0//EN
CALSCALE:GREGORIAN
METHOD:PUBLISH
X-ORIGINAL-URL:https://www.experienciaspositivas.es
X-WR-CALDESC:Eventos para Experiencias Positivas
REFRESH-INTERVAL;VALUE=DURATION:PT1H
X-Robots-Tag:noindex
X-PUBLISHED-TTL:PT1H
BEGIN:VTIMEZONE
TZID:Europe/Madrid
BEGIN:DAYLIGHT
TZOFFSETFROM:+0100
TZOFFSETTO:+0200
TZNAME:CEST
DTSTART:20240331T010000
END:DAYLIGHT
BEGIN:STANDARD
TZOFFSETFROM:+0200
TZOFFSETTO:+0100
TZNAME:CET
DTSTART:20241027T010000
END:STANDARD
END:VTIMEZONE
BEGIN:VEVENT
DTSTART;TZID=Europe/Madrid:20240615T210000
DTEND;TZID=Europe/Madrid:20240615T230000
DTSTAMP:20260421T211754
CREATED:20240604T085227Z
LAST-MODIFIED:20240604T085229Z
UID:1424-1718485200-1718492400@www.experienciaspositivas.es
SUMMARY:Taller de Astonomía especial Luna
DESCRIPTION:El tema central será la luna\, que hoy toma protagonismo porque está en el mejor momento para la observación: creciente al 65% con la línea del terminador delineando relieves y cráteres que será una delicia observar con el telescopio. \nCrearemos nuestro propio mapa lunar\, con sus cráteres\, mares y relieves. Hablaremos de Galileo y\, como él nos ha enseñado\, aprenderemos a tomar nota lo que observamos a través de prismáticos y telescopio. Cerramos la noche con una interpretación del cielo con puntero láser astronómico. \nUna actividad perfecta en familia o con amigos \nDivulgador Astronómico FAAE \nTurismo Científico Fundación Descubre
URL:https://www.experienciaspositivas.es/event/taller-de-astonomia-especial-luna/
LOCATION:Reserva natural de la Dehesa de Abajo\, carretera Venta al Cruce\, La Puebla del Río\, Sevilla\, España
CATEGORIES:Astronomía,cultura,doñana,Taller,turismo cientifico
ATTACH;FMTTYPE=image/jpeg:https://www.experienciaspositivas.es/wp-content/uploads/2021/11/luna-cresciente.jpg
END:VEVENT
END:VCALENDAR