BEGIN:VCALENDAR
VERSION:2.0
PRODID:-//Experiencias Positivas - ECPv6.9.0//NONSGML v1.0//EN
CALSCALE:GREGORIAN
METHOD:PUBLISH
X-ORIGINAL-URL:https://www.experienciaspositivas.es
X-WR-CALDESC:Eventos para Experiencias Positivas
REFRESH-INTERVAL;VALUE=DURATION:PT1H
X-Robots-Tag:noindex
X-PUBLISHED-TTL:PT1H
BEGIN:VTIMEZONE
TZID:Europe/Madrid
BEGIN:DAYLIGHT
TZOFFSETFROM:+0100
TZOFFSETTO:+0200
TZNAME:CEST
DTSTART:20240331T010000
END:DAYLIGHT
BEGIN:STANDARD
TZOFFSETFROM:+0200
TZOFFSETTO:+0100
TZNAME:CET
DTSTART:20241027T010000
END:STANDARD
END:VTIMEZONE
BEGIN:VEVENT
DTSTART;TZID=Europe/Madrid:20240629T210000
DTEND;TZID=Europe/Madrid:20240629T230000
DTSTAMP:20260421T212253
CREATED:20240604T092422Z
LAST-MODIFIED:20240604T092424Z
UID:1428-1719694800-1719702000@www.experienciaspositivas.es
SUMMARY:Las Constelaciones de Verano
DESCRIPTION:Cada temporada tiene su cielo para que lo disfrutemos. Hoy nos dedicamos a comprender qué es el solsticio de verano y aprendemos a conocer las ESTRELLAS de junio. Turismo de naturaleza y ciencia en La Dehesa de Abajo\, Reserva de la Biosfera de Doñana. \nMonitor Divulgador Astronómico FAAE \nTurismo Científico Fundación Descubre
URL:https://www.experienciaspositivas.es/event/las-constelaciones-de-verano/
LOCATION:Reserva natural de la Dehesa de Abajo\, carretera Venta al Cruce\, La Puebla del Río\, Sevilla\, España
CATEGORIES:Astronomía,doñana,Taller,turismo cientifico
ATTACH;FMTTYPE=image/jpeg:https://www.experienciaspositivas.es/wp-content/uploads/2021/12/Dehesa_experiencias_positivas_movil_marca_agua1.jpg
ORGANIZER;CN="Experiencias Positivas":MAILTO:info@experienciaspositivas.es
END:VEVENT
END:VCALENDAR